BEGIN:VCALENDAR
VERSION:2.0
PRODID:-//eventon.com NONSGML v1.0//EN
CALSCALE:GREGORIAN
METHOD:PUBLISH
BEGIN:VEVENT
UID:69e5e4b83b669
DTSTAMP:20260420T083256Z
DTSTART:20190115T093000Z
DTEND:20190115T235000Z
LOCATION:Afton Alps Main Lodge - in or near the Oakwood Room 6600 Peller Ave. S.
SUMMARY:Ski Afton!
DESCRIPTION:Ski Afton!\nhttps://midwestfun.org/events/ski-afton/
URL:https://midwestfun.org/events/ski-afton/
END:VEVENT
END:VCALENDAR