BEGIN:VCALENDAR
VERSION:2.0
PRODID:-//eventon.com NONSGML v1.0//EN
CALSCALE:GREGORIAN
METHOD:PUBLISH
BEGIN:VEVENT
UID:69e88557286e2
DTSTAMP:20260422T082247Z
DTSTART:20200108T100000Z
DTEND:20200108T160000Z
LOCATION:Trollhaugen Ski Area 2232 100th Avenue\,  Dresser WI 54009
SUMMARY:Yodeler's Day Ski Trip - Trollhaugen - January 2020
DESCRIPTION:Support a local ski area &#8211; come with us to Trollhaugen Sk
 i Area in Dresser WI. Check the Trollhaugen website for possible discount l
 ift tickets. Additional details available at a later date.\nhttps://midwest
 fun.org/events/yodelers-day-ski-trip-trollhaugen-january-2020/
URL:https://midwestfun.org/events/yodelers-day-ski-trip-trollhaugen-january-2020/
END:VEVENT
END:VCALENDAR